BEGIN:VCALENDAR
VERSION:2.0
PRODID:-//BioLogisches Heilwissen//NONSGML kigkonsult.se iCalcreator 2.41.92//
CALSCALE:GREGORIAN
METHOD:PUBLISH
UID:37396463-3564-4438-b266-626139623831
X-WR-CALNAME:iCagenda
X-WR-CALDESC:Event Management Extension for Joomla!
X-WR-RELCALID:3E26604A-50F4-4449-8B3E-E4F4932D05B5
X-WR-TIMEZONE:UTC
BEGIN:VTIMEZONE
TZID:UTC
END:VTIMEZONE
BEGIN:VEVENT
UID:62653661-6663-4733-a333-346332313865
DTSTAMP:20260425T152920Z
CATEGORIES:Psychische Erkrankungen
CLASS:PUBLIC
DESCRIPTION;ALTREP="CID:<FFFF__=0ABBE548DFE235B58f9e8a93d@coffeebean.com>":
 Dieses Seminar wird es ca. ab April 2025 als Videokurs geben.\nBei Interes
 se wenden Sie sich gerne an mich per Mail\,\ndann können wir Sie auf die I
 nteressentenliste nehmen\nund Sie unmittelbar informieren\, wenn dieser Vi
 deokurs fertiggestellt ist.\ninfo@biologisches-heilwissen.de\nHerzliche Gr
 üße\nRainer Körner
DTSTART:20250404T035900Z
DTEND:20291109T035900Z
GEO:00;0
LOCATION:
ORGANIZER:
SEQUENCE:1
SUMMARY:Psycheseminar BioLogisches Heilwissen (Warum wir sind\, wie wir sin
 d!)
TRANSP:OPAQUE
URL:https://www.biologisches-heilwissen.de/seminare/psycheseminar-biologisc
 hes-heilwissen-warum-wir-sind,-wie-wir-sind.html?layout=vcal
END:VEVENT
END:VCALENDAR
