BEGIN:VCALENDAR
VERSION:2.0
PRODID:-//BioLogisches Heilwissen//NONSGML kigkonsult.se iCalcreator 2.41.92//
CALSCALE:GREGORIAN
METHOD:PUBLISH
UID:37383064-3739-4762-b434-336563316165
X-WR-CALNAME:iCagenda
X-WR-CALDESC:Event Management Extension for Joomla!
X-WR-RELCALID:3E26604A-50F4-4449-8B3E-E4F4932D05B5
X-WR-TIMEZONE:UTC
BEGIN:VTIMEZONE
TZID:UTC
END:VTIMEZONE
BEGIN:VEVENT
UID:34356434-3666-4465-a165-353130663639
DTSTAMP:20260425T151855Z
CATEGORIES:BioLogisches Heilwissen
CLASS:PUBLIC
DESCRIPTION;ALTREP="CID:<FFFF__=0ABBE548DFE235B58f9e8a93d@coffeebean.com>":
 Liebe Interessentinnen und Interessenten\,\nder Videokurs Grundlagensemina
 r BioLogisches Heilwissen ist erfreulicherweise fertiggestellt.\nHier könn
 t diesem Link mehr Infos bekommen und auch den Zugang erwerben.\nhttps://h
 eilwissen-akademie.de/order-form-page\n&nbsp\;\nDie erste Fertigstellung d
 er weiteren Aufbauseminare (1+2) ist für\nJuli 2025 geplant.\nAuch weitere
  Videokurse\nzum Psycheseminar BioLogisches Heilwissen\nzur 5-Stern-Method
 e nach Rainer Körner\nsind geplant.\nSeid gespannt\, es wird richtig inter
 essant werden.\nSchreibt mir gerne eine E-Mail\, wenn ich Euch auf die Int
 eressentenliste nehmen soll.\nIch freue mich Euch dann auch in den Praxisa
 benden live zu sehen.\n&nbsp\;\nWer gerne in die Jachenau zu einem persönl
 ichen Kennenlernen kommen will\,\nkann dies am besten mit den Yogawochen&n
 bsp\; realisieren.\nDiese werden natürlich immer hier live vor Ort in der 
 schönen Jachenau durchgeführt.\n&nbsp\;\nHerzliche Grüße\nRainer
DTSTART:20250402T160000Z
DTEND:20261130T190000Z
GEO:00;0
LOCATION:Online
ORGANIZER;CN=:mailto:info@biologisches-heilwissen.de
SEQUENCE:1
SUMMARY:DAUERSEMINAR - BioLogischen Heilwissen als Videokurs
TRANSP:OPAQUE
URL:https://www.biologisches-heilwissen.de/seminare/biologischen-heilwissen
 -als-videokurs.html?layout=vcal
END:VEVENT
END:VCALENDAR
